BEGIN:VCALENDAR
VERSION:2.0
PRODID:-//Heroes Live Entertainment - ECPv6.15.20//NONSGML v1.0//EN
CALSCALE:GREGORIAN
METHOD:PUBLISH
X-WR-CALNAME:Heroes Live Entertainment
X-ORIGINAL-URL:https://heroesliveent.com
X-WR-CALDESC:Events for Heroes Live Entertainment
REFRESH-INTERVAL;VALUE=DURATION:PT1H
X-Robots-Tag:noindex
X-PUBLISHED-TTL:PT1H
BEGIN:VTIMEZONE
TZID:America/New_York
BEGIN:DAYLIGHT
TZOFFSETFROM:-0500
TZOFFSETTO:-0400
TZNAME:EDT
DTSTART:20230312T070000
END:DAYLIGHT
BEGIN:STANDARD
TZOFFSETFROM:-0400
TZOFFSETTO:-0500
TZNAME:EST
DTSTART:20231105T060000
END:STANDARD
BEGIN:DAYLIGHT
TZOFFSETFROM:-0500
TZOFFSETTO:-0400
TZNAME:EDT
DTSTART:20240310T070000
END:DAYLIGHT
BEGIN:STANDARD
TZOFFSETFROM:-0400
TZOFFSETTO:-0500
TZNAME:EST
DTSTART:20241103T060000
END:STANDARD
BEGIN:DAYLIGHT
TZOFFSETFROM:-0500
TZOFFSETTO:-0400
TZNAME:EDT
DTSTART:20250309T070000
END:DAYLIGHT
BEGIN:STANDARD
TZOFFSETFROM:-0400
TZOFFSETTO:-0500
TZNAME:EST
DTSTART:20251102T060000
END:STANDARD
END:VTIMEZONE
BEGIN:VEVENT
DTSTART;TZID=America/New_York:20240112T190000
DTEND;TZID=America/New_York:20240112T230000
DTSTAMP:20260425T083730
CREATED:20230327T201640Z
LAST-MODIFIED:20240113T132346Z
UID:2443-1705086000-1705100400@heroesliveent.com
SUMMARY:Strangelove-The DEPECHE MODE Experience + Electric Duke (David Bowie tribute from UK) - Orlando - 1/12/24
DESCRIPTION:Heroes Live Entertainment presents Strangelove–The DEPECHE MODE Experience + Electric Duke (David Bowie tribute from UK) at The Abbey in Orlando\, Florida. Grab your tickets now!\n\n\nTickets: https://strangeloveabbey.eventbrite.com\n\n\n\n7:00PM (Doors) | 8:00PM (Show) | 18+\n\n\n\n\n\n\n\n\nStrangelove–The DEPECHE MODE Experience\nWebsite: https://depechetribute.com\nFacebook: https://facebook.com/strangelovetribute\nInstagram: https://instagram.com/strangelovetribute\nTwitter: https://twitter.com/depechetribute\n\n\n\n  \nhttps://heroesliveent.com/wp-content/uploads/2022/06/Strangelove-The-Depeche-Mode-Experience-NYE-Orlando-FL.mp4\n  \nLos Angeles based Strangelove-The DEPECHE MODE Experience delivers a career-spanning\, pitch-perfect “best of” concert that transports the listener through time and touches on several key points in Depeche Mode’s 40+ year career. Songs from throughout the Depeche canon are lovingly recreated; from favorites on DM’s debut Speak and Spell to the newest fare from ‘Mode’s latest- 2017’s “Spirit”. No detail of STRANGELOVE’s presentation has been overlooked. The visual presentation with stage set pieces and in-show costume changes reflect different eras of Depeche Mode’s story. \nDEPECHE MODE’S MARTIN GORE ON STRANGELOVE-THE DEPECHE MODE EXPERIENCE: \n“They do it to such fine detail that’s it’s scary. They play to very big crowds. They have videos that they’ve made\, screens behind them\, it’s like a full on production. I think they are fulfilling a fan’s needs by being there when we are not on tour. Keeping the fans satiated while we’re taking a break.” \nSpecial Guest: Electric Duke\n(tribute to David Bowie from UK)\nhttps://facebook.com/electricduke \nElectric Duke frontman Julian Shah-Tayler\, from UK\, has collaborated with several David Bowie musicians (on original albums and Bowie material) and effortlessly channels the zeitgeist of Ziggy Stardust.
URL:https://heroesliveent.com/event/strangelove/
LOCATION:The Abbey\, 100 S. Eola Drive\, Orlando\, FL\, 32801\, United States
CATEGORIES:Concert
ATTACH;FMTTYPE=image/jpeg:https://heroesliveent.com/wp-content/uploads/2023/03/Strangelove-Sold-Out-scaled-e1705152219267.jpg
END:VEVENT
BEGIN:VEVENT
DTSTART;TZID=America/New_York:20240114T190000
DTEND;TZID=America/New_York:20240114T230000
DTSTAMP:20260425T083730
CREATED:20230309T195306Z
LAST-MODIFIED:20231217T235431Z
UID:2402-1705258800-1705273200@heroesliveent.com
SUMMARY:A Flock of Seagulls + Strangelove-The Depeche Mode Experience - Tampa - 1/14/24
DESCRIPTION:Heroes Live Entertainment presents A Flock of Seagulls with special guest Strangelove–The Depeche Mode Experience on Sunday\, January 14\, 2024 @ The RITZ Ybor in Tampa\, Florida.\n\n\nTickets: https://afos.eventbrite.com\n\n\n\nSunday\, January 14\, 2024 | 7:00PM (Doors) | 8:00PM (Show) | All Ages\n\n\n\n\n\n\n\n\n  \nAs well-known for their bizarrely teased haircuts as their hit single “I Ran (So Far Away)\,” A Flock of Seagulls was one of the MTV video rotation staples of the new wave era. Growing out of the synth-heavy and ruthlessly stylish new Romantic Movement\, the group benefitted considerably from MTV’s heavy rotation of the “I Ran” video in the summer of 1982. Mike Score’s outrageous hairstyle is forever embedded in pop culture. \nHits include:\n“TELECOMMUNICATION”\n“I RAN (SO FAR AWAY)”\n“WISHING (IF I HAD A PHOTOGRAPH OF YOU)”\n“SPACE AGE LOVE SONG”\n“THE MORE YOU LIVE\, THE MORE YOU LOVE”\n“MODERN LOVE IS AUTOMATIC” \nand more! \n  \nA Flock of Seagulls \n\nWebsite: https://aflockofseagulls.org\nFacebook: https://facebook.com/AFlockOfSeagullsOfficial\nInstagram: https://instagram.com/a.flock.of.seagulls\nTwitter: https://twitter.com/realseagulls\n\n  \nStrangelove–The DEPECHE MODE Experience \nWebsite: https://depechetribute.com\nFacebook: https://facebook.com/strangelovetribute\nInstagram: https://instagram.com/strangelovetribute\nTwitter: https://twitter.com/depechetribute \n\n\n\n\nLos Angeles based Strangelove-The DEPECHE MODE Experience delivers a career-spanning\, pitch-perfect “best of” concert that transports the listener through time and touches on several key points in Depeche Mode’s 40+ year career. Songs from throughout the Depeche canon are lovingly recreated; from favorites on DM’s debut Speak and Spell to the newest fare from ‘Mode’s latest- 2017’s “Spirit”. No detail of STRANGELOVE’s presentation has been overlooked. The visual presentation with stage set pieces and in-show costume changes reflect different eras of Depeche Mode’s story. \nDEPECHE MODE’S MARTIN GORE ON STRANGELOVE-THE DEPECHE MODE EXPERIENCE: \n“They do it to such fine detail that’s it’s scary. They play to very big crowds. They have videos that they’ve made\, screens behind them\, it’s like a full on production. I think they are fulfilling a fan’s needs by being there when we are not on tour. Keeping the fans satiated while we’re taking a break.” \n 
URL:https://heroesliveent.com/event/aflockofseagulls/
LOCATION:The Ritz Ybor\, 1503 E. 7th Ave.\, Tampa\, FL\, 33605\, United States
CATEGORIES:Concert
ATTACH;FMTTYPE=image/jpeg:https://heroesliveent.com/wp-content/uploads/2023/03/AFOS-Portrait-scaled-e1680208901610.jpg
END:VEVENT
BEGIN:VEVENT
DTSTART;TZID=America/New_York:20240127T190000
DTEND;TZID=America/New_York:20240127T230000
DTSTAMP:20260425T083730
CREATED:20230830T174625Z
LAST-MODIFIED:20240122T081652Z
UID:2724-1706382000-1706396400@heroesliveent.com
SUMMARY:Christone "KINGFISH" Ingram - Miami - 1/27/24
DESCRIPTION:Heroes Live Entertainment presents Christone “KINGFISH” Ingram on Saturday\, January 27th\, 2024 @ Gramps in Miami. Rain or shine. Special guest: Mathias Lattin \n\n“Ingram plays guitar with dramatic\, searing tone and sure-handed authority. And that’s just in the studio; he’s even scarier live.” –NPR Music\n\n“Muscular guitar and gorgeous vocals…[there is] an intense rolling melodicism in Ingram’s singing and soloing” –AllMusic\n\n“Christone ‘Kingfish’ Ingram has already made his mark as one of the best\, and undoubtedly most exciting\, blues guitarists in the world.” –Guitar World\n\n“Kingfish is one of the most exciting young guitarists in years\, with a sound that encompasses B.B. King\, Jimi Hendrix and Prince.” –Rolling Stone\n\n\n\nTickets: https://kingfishmiami.eventbrite.com\n\n\n7:00PM (Doors) | 8:00PM (Show) | 18+ \n\n\n\n\n\nChristone “KINGFISH” Ingram\nWebsite: https://christonekingfishingram.com\nFacebook: https://facebook.com/callmekingfish\nInstagram: https://instagram.com/callmekingfish\nTwitter: https://twitter.com/callmekingfish \n\n\n\n\n\n\n\n\n\n\n\nGRAMMY-winning guitarist\, vocalist and songwriter Christone “Kingfish” Ingram has quickly become the defining blues voice of his generation. From his hometown of Clarksdale\, Mississippi to stages around the globe\, the young blues star has already headlined multiple U.S. and European tours\, and amazed fans in Australia\, New Zealand\, and India. Selected in summer 2022 to open for The Rolling Stones in London’s Hyde Park\, Kingfish has also performed and toured with friends including Vampire Weekend\, Jason Isbell\, Steve Miller and Buddy Guy\, a mentor of his\, with whom he appeared on Austin City Limits. \n\nSince he burst onto the scene in 2019\, Ingram has been nominated for 10 Blues Music Awards and won them all. Rolling Stone declared\, “Kingfish is one of the most exciting young guitarists in years\, with a sound that encompasses B.B. King\, Jimi Hendrix and Prince.” In September 2023\, Kingfish released his jaw-dropping third album\, Live In London. Recorded on June 6\, 2023\, in front of a sweaty\, sold-out\, standing-room-only crowd at the famous UK club\, The Garage\, Live In London is the guitar-driven live album Kingfish’s fans around the world have been clamoring for since they first watched him perform as a teenager on YouTube. \n\n\n\nSupport: \nMathias Lattin\nWebsite: https://mathiaslattin.com\nFacebook: https://facebook.com/mathiaslattin\nInstagram: https://instagram.com/mathiaslattin \nMathias Lattin won the 2023 International Blues Challenge and Best Guitarist at the tender of 20-years old; conceivably making him the youngest to win both. \nThe grandson of NBA Hall of Famer\, David “Big Daddy” Lattin\, he displays his talent on the stage not the basketball court. He is a 2020 graduate of Houston’s acclaimed Kinder High School of Performing and Visual Arts. He began his foray into the Houston Blues scene when he was 12 years old. Jonn Del Toro Richardson invited him to attend the weekly Blues jam he hosted at The Big Easy. He garnered national attention when he joined the Keeshea Pratt Band (IBC 2018) in 2020. After touring with the Keeshea Pratt Band and joining Brazilian Bluesman Cris Crochemore for the 2022 IBC\, Mathias decided to take a shot at the IBC as front man. \nUP NEXT is the debut release of the emerging Texas musician. He wrote and produced the project which displays some of Lattin’s musical influences. The wealth and breadth of great music/musicians in the Houston music scene had a major impact on the 21-year-old Lattin. UP NEXT is proof that the music is alive and in capable hands.
URL:https://heroesliveent.com/event/kingfish/
LOCATION:Gramps\, 176 NW 24th St\, Miami\, FL\, 33127\, United States
CATEGORIES:Concert
ATTACH;FMTTYPE=image/jpeg:https://heroesliveent.com/wp-content/uploads/2023/08/Kingfish-Sold-Out-scaled-e1703842975368.jpg
END:VEVENT
END:VCALENDAR